0.5
0
0
-0.5
2352500.25
1377499.75
