0.5
0
0
-0.5
2460000.25
1377499.75
