0.5
0
0
-0.5
2447500.25
1374999.75
