0.5
0
0
-0.5
2432500.25
1372499.75
