0.5
0
0
-0.5
2440000.25
1372499.75
