0.5
0
0
-0.5
2400000.25
1364999.75
