0.5
0
0
-0.5
2430000.25
1334999.75
