0.5
0
0
-0.5
2412500.25
1332499.75
