0.5
0
0
-0.5
2437500.25
1322499.75
