0.00002694945852359
0
0
-0.00002694945852359
-123.15211445277291
47.77900468653844
