0.0000089993
0.0000000000
0.0000000000
-0.0000089993
-81.2657307415
29.7941414686
