0.0000089993
0.0000000000
0.0000000000
-0.0000089993
-81.2587203024
29.7941504679
