0.0000089993
0.0000000000
0.0000000000
-0.0000089993
-81.2585403168
29.8114470842
