0.0000089993
0.0000000000
0.0000000000
-0.0000089993
-81.2463012959
29.7310025197
