0.0000089993
0.0000000000
0.0000000000
-0.0000089993
-81.2482361411
29.7400287976
