0.0000089993
0.0000000000
0.0000000000
-0.0000089993
-81.2274748020
29.7039686824
