0.0000089993
0.0000000000
0.0000000000
-0.0000089993
-81.2089902808
29.6408117350
