0.0000089993
0.0000000000
0.0000000000
-0.0000089993
-81.2170896328
29.6857361411
