0.0000089993
0.0000000000
0.0000000000
-0.0000089993
-81.2010709143
29.6227681785
