0.0000089993
0.0000000000
0.0000000000
-0.0000089993
-81.2050035997
29.6318034557
