0.0000089993
0.0000000000
0.0000000000
-0.0000089993
-81.1962832973
29.6137598992
