0.0000089993
0.0000000000
0.0000000000
-0.0000089993
-81.1730921526
29.5596382289
