0.0000089993
0.0000000000
0.0000000000
-0.0000089993
-81.1550845932
29.5235511159
