0.0000089993
0.0000000000
0.0000000000
-0.0000089993
-81.1651997840
29.5506209503
