0.0000089993
0.0000000000
0.0000000000
-0.0000089993
-81.1652087833
29.5596382289
