0.0000089993
0.0000000000
0.0000000000
-0.0000089993
-81.1652177826
29.5641288697
