0.0000089993
0.0000000000
0.0000000000
-0.0000089993
-81.1548326134
29.5235601151
