0.0000089993
0.0000000000
0.0000000000
-0.0000089993
-81.1287616991
29.4694294456
