0.0000089993
0.0000000000
0.0000000000
-0.0000089993
-81.1238030958
29.4604211662
