0.0000089993
0.0000000000
0.0000000000
-0.0000089993
-81.1134539237
29.4333513318
