0.0000089993
0.0000000000
0.0000000000
-0.0000089993
-81.1134809215
29.4513858891
