0.0000089993
0.0000000000
0.0000000000
-0.0000089993
-81.1031407487
29.4243340532
