0.0000089993
0.0000000000
0.0000000000
-0.0000089993
-81.0829463643
29.3701853852
