0.0000089993
0.0000000000
0.0000000000
-0.0000089993
-81.0917836573
29.3882289416
