0.0000089993
0.0000000000
0.0000000000
-0.0000089993
-81.0928095752
29.4062814974
