0.0000089993
0.0000000000
0.0000000000
-0.0000089993
-81.0515388769
29.3250719942
