0.0000089993
0.0000000000
0.0000000000
-0.0000089993
-81.0310115191
29.2618970482
