0.0000089993
0.0000000000
0.0000000000
-0.0000089993
-81.0397948164
29.2799496040
