0.0000089993
0.0000000000
0.0000000000
-0.0000089993
-81.0206263499
29.2528707703
