0.0000089993
0.0000000000
0.0000000000
-0.0000089993
-81.0005939525
29.1987221022
