0.0000089993
0.0000000000
0.0000000000
-0.0000089993
-81.4603581713
30.7036267098
