0.0000089993
0.0000000000
0.0000000000
-0.0000089993
-81.4550305976
30.5065334773
