0.0000089993
0.0000000000
0.0000000000
-0.0000089993
-81.4547876170
30.5078203744
