0.0000089993
0.0000000000
0.0000000000
-0.0000089993
-81.4505489561
30.5877609791
