0.0000089993
0.0000000000
0.0000000000
-0.0000089993
-81.4551925846
30.6419006479
