0.0000089993
0.0000000000
0.0000000000
-0.0000089993
-81.4594852412
30.6960493160
