0.0000089993
0.0000000000
0.0000000000
-0.0000089993
-81.4488660907
30.6599892008
