0.0000089993
0.0000000000
0.0000000000
-0.0000089993
-81.4490010799
30.6870590352
