0.0000089993
0.0000000000
0.0000000000
-0.0000089993
-81.4345032397
30.4524748020
