0.0000089993
0.0000000000
0.0000000000
-0.0000089993
-81.4375449964
30.4615010799
